BEGIN:VCALENDAR
VERSION:2.0
PRODID:-//North Carolina Democratic Party Jewish Caucus - ECPv6.15.20//NONSGML v1.0//EN
CALSCALE:GREGORIAN
METHOD:PUBLISH
X-WR-CALNAME:North Carolina Democratic Party Jewish Caucus
X-ORIGINAL-URL:https://ncdpjc.org
X-WR-CALDESC:Events for North Carolina Democratic Party Jewish Caucus
REFRESH-INTERVAL;VALUE=DURATION:PT1H
X-Robots-Tag:noindex
X-PUBLISHED-TTL:PT1H
BEGIN:VTIMEZONE
TZID:America/New_York
BEGIN:DAYLIGHT
TZOFFSETFROM:-0500
TZOFFSETTO:-0400
TZNAME:EDT
DTSTART:20230312T070000
END:DAYLIGHT
BEGIN:STANDARD
TZOFFSETFROM:-0400
TZOFFSETTO:-0500
TZNAME:EST
DTSTART:20231105T060000
END:STANDARD
BEGIN:DAYLIGHT
TZOFFSETFROM:-0500
TZOFFSETTO:-0400
TZNAME:EDT
DTSTART:20240310T070000
END:DAYLIGHT
BEGIN:STANDARD
TZOFFSETFROM:-0400
TZOFFSETTO:-0500
TZNAME:EST
DTSTART:20241103T060000
END:STANDARD
BEGIN:DAYLIGHT
TZOFFSETFROM:-0500
TZOFFSETTO:-0400
TZNAME:EDT
DTSTART:20250309T070000
END:DAYLIGHT
BEGIN:STANDARD
TZOFFSETFROM:-0400
TZOFFSETTO:-0500
TZNAME:EST
DTSTART:20251102T060000
END:STANDARD
END:VTIMEZONE
BEGIN:VEVENT
DTSTART;TZID=America/New_York:20241020T124500
DTEND;TZID=America/New_York:20241027T180000
DTSTAMP:20260422T132104
CREATED:20241007T141948Z
LAST-MODIFIED:20241007T141948Z
UID:7711-1729428300-1730052000@ncdpjc.org
SUMMARY:Raleigh City Council District E Volunteer Opportunity
DESCRIPTION:We are writing to ask ALL of our members to do a great Mitzvah!  Please help Democrat John Cerqueira get elected to the Raleigh City Council for District E by poll greeting for him at early voting sites and on Election Day in District E. \nWe are working with John’s volunteer coordinator to help staff Lake Lynn Community Center and Laurel Hills Community Center early voting sites for 2-3 hour blocks to hand out John’s information card\, during the high-traffic Sundays listed below.  To help\, REPLY TO THIS EMAIL ASAP to let us know which shifts and locations you can do. \nSundays: October 20 and/or October 27\nLake Lynn Community Center \n\n12:45-3:30pm\n3:30-6:00pm\n\nLaurel Hills Community Center \n\n12:45-3:30pm\n3:30-6:00pm\nOther shifts Mon-Fri? – let us know your availability\nAND if you live in District E\, can you put up a yard sign for John?  We deliver!\n\nWe need to help John by handing out his qualifications to voters so they are aware that there is another very qualified Democrat running for District E.  Without our help\, Dems who go to the polls will get handed the WCDP slate card but won’t know that John is also running and is extremely well qualified and is a unifier\, not a divider\, unlike Christina Jones who was endorsed by WCDP against many many objections. \nWe also want to help him on Election Day at voting sites in District E\, but we will contact you later about that. Please see below for why this is important! \nWhy Do We Need to Help John Cerqueira?\nJohn is the NCDP Jewish Caucus endorsed candidate over Christina Jones who pushed divisive anti-Israel resolutions at the Raleigh City Council after October 7 and also was photographed wearing a kefiyah and hugging Rania Masra\, who called October 7 “a beautiful day”. When asked at recent meetings if she would commit to not bringing divisive foreign policy issues before the city council in the future if she were re-elected\, she would not commit to not doing it again. \nHere is the background on why John needs our help….. The Wake County Democratic Party was asked by many current and former city and statewide Democratic party leaders\, including the NCDP Jewish Caucus\, NOT to endorse any Democrat over another in the Raleigh City Council races\, yet the WCDP chose to endorse Christina Jones. Her name\, therefore\, will appear on Democratic slate cards handed out by WCDP poll greeters during early voting and Election Day. John needs help getting his information out to voters at the polls who may not be aware that another qualified Dem is running. \nSome Info About John (https://www.john4raleigh.com/about)\nJohn grew up in Durham and Cary\, attended NC State. He earned an MBA from UNC’s Kenan-Flagler Business School\, where he studied urban planning and organizational change\, strengthening a career centered on understanding people\, solving complex problems\, and giving back to the community. \nHe helped found Skate Raleigh\, a non-profit that brought the Conlon Family Skate Park downtown\, demonstrating the power of public-private partnerships. John also volunteers to coach the junior varsity basketball team at Our Lady of Lourdes\, where his daughter is on the team. \nIn his current professional life\, John helps organizations manage and work through the impacts of change. This provides him with a unique ability to meet diverse parties where they are and understand their concerns\, working toward common ground and effective solutions. \nJohn has the unique qualifications to lead Raleigh forward! \nWe would really like to have our members be a presence in this vital effort to elect John.  We hope that you will volunteer!
URL:https://ncdpjc.org/event/raleigh-city-council-district-e-volunteer-opportunity/
CATEGORIES:Volunteer
ATTACH;FMTTYPE=image/png:https://ncdpjc.org/wp-content/uploads/2024/10/NCDPJC-Wake@3x.png
END:VEVENT
BEGIN:VEVENT
DTSTART;TZID=America/New_York:20241020T170000
DTEND;TZID=America/New_York:20241022T170000
DTSTAMP:20260422T132104
CREATED:20241007T143019Z
LAST-MODIFIED:20241007T143019Z
UID:7714-1729443600-1729616400@ncdpjc.org
SUMMARY:NCDPJC State Fair Table
DESCRIPTION:The NCDPJC is signed up to staff the NC Dem Party table at the State Fair for the shifts below.  We would love to have some of our chapter members sign up to join us.  It’s an easy and fun way to promote the Democratic party and its candidates.   \nYou’ll receive a ticket to get in free! \nWe are signed up for: \nSun\, Oct 20\, 5:00pm–7:00pm  \nTue\, Oct 22\, 3:00pm–5:00pm  \nIf these shifts don’t work for you\, please consider signing up for another(s).  And ask your friends to sign up too!\n \nLink to sign up for a shift:       https://www.mobilize.us/ncdems/event/695331/ \nCome volunteer at the NCDP booth at the NC State Fair! It’s great fun to spend time with your fellow Democrats talking to voters\, handing out free merch and enjoying the fair!  \nSEE YOU AT THE FAIR!
URL:https://ncdpjc.org/event/ncdpjc-state-fair-table/
CATEGORIES:Volunteer
ATTACH;FMTTYPE=image/png:https://ncdpjc.org/wp-content/uploads/2024/10/NCDPJC-State-Fair.png
END:VEVENT
END:VCALENDAR