BEGIN:VCALENDAR
VERSION:2.0
PRODID:-//North Carolina Democratic Party Jewish Caucus - ECPv6.15.20//NONSGML v1.0//EN
CALSCALE:GREGORIAN
METHOD:PUBLISH
X-WR-CALNAME:North Carolina Democratic Party Jewish Caucus
X-ORIGINAL-URL:https://ncdpjc.org
X-WR-CALDESC:Events for North Carolina Democratic Party Jewish Caucus
REFRESH-INTERVAL;VALUE=DURATION:PT1H
X-Robots-Tag:noindex
X-PUBLISHED-TTL:PT1H
BEGIN:VTIMEZONE
TZID:America/New_York
BEGIN:DAYLIGHT
TZOFFSETFROM:-0500
TZOFFSETTO:-0400
TZNAME:EDT
DTSTART:20230312T070000
END:DAYLIGHT
BEGIN:STANDARD
TZOFFSETFROM:-0400
TZOFFSETTO:-0500
TZNAME:EST
DTSTART:20231105T060000
END:STANDARD
BEGIN:DAYLIGHT
TZOFFSETFROM:-0500
TZOFFSETTO:-0400
TZNAME:EDT
DTSTART:20240310T070000
END:DAYLIGHT
BEGIN:STANDARD
TZOFFSETFROM:-0400
TZOFFSETTO:-0500
TZNAME:EST
DTSTART:20241103T060000
END:STANDARD
BEGIN:DAYLIGHT
TZOFFSETFROM:-0500
TZOFFSETTO:-0400
TZNAME:EDT
DTSTART:20250309T070000
END:DAYLIGHT
BEGIN:STANDARD
TZOFFSETFROM:-0400
TZOFFSETTO:-0500
TZNAME:EST
DTSTART:20251102T060000
END:STANDARD
END:VTIMEZONE
BEGIN:VEVENT
DTSTART;TZID=America/New_York:20240620T180000
DTEND;TZID=America/New_York:20240620T193000
DTSTAMP:20260422T181439
CREATED:20240620T143913Z
LAST-MODIFIED:20240620T145405Z
UID:2118-1718906400-1718911800@ncdpjc.org
SUMMARY:Mecklenburg County Virtual Phone Bank
DESCRIPTION:About this event\nReaching out to potential volunteers through personal phone calls is one of the best ways that you can help build a strong team to elect Joe Biden\, Kamala Harris\, and Democrats up and down the ballot in North Carolina!\n\n\n\n\n\n  \nDuring this Phone Bank\, we will: Reach out to people who have signed up to volunteer & strong Democrats to get them involved with taking action Provide training on how to make calls for anyone who is new to phone banking Meet other volunteers and have fun while we take action together!
URL:https://ncdpjc.org/event/mecklenburg-county-virtual-phone-bank/
CATEGORIES:Volunteer
ATTACH;FMTTYPE=image/avif:https://ncdpjc.org/wp-content/uploads/2024/06/BidenHarrisBlueMobilize_20240613154645937933.avif
END:VEVENT
BEGIN:VEVENT
DTSTART;TZID=America/New_York:20240625T180000
DTEND;TZID=America/New_York:20240625T193000
DTSTAMP:20260422T181439
CREATED:20240620T143424Z
LAST-MODIFIED:20240620T145200Z
UID:2112-1719338400-1719343800@ncdpjc.org
SUMMARY:Mecklenburg County Phone Bank to Recruit Volunteers!
DESCRIPTION:About this event\nReaching out to potential volunteers through personal phone calls is one of the best ways that you can help build a strong team to elect Joe Biden\, Kamala Harris\, and Democrats up and down the ballot in North Carolina!\n\n\n\n\n\n  \nDuring this Phone Bank\, we will: Reach out to people who have signed up to volunteer & strong Democrats to get them involved with taking action Provide training on how to make calls for anyone who is new to phone banking Meet other volunteers and have fun while we take action together!
URL:https://ncdpjc.org/event/mecklenburg-county-phone-bank-to-recruit-volunteers/
CATEGORIES:Volunteer
ATTACH;FMTTYPE=image/avif:https://ncdpjc.org/wp-content/uploads/2024/06/phone-bank@2x.avif
END:VEVENT
BEGIN:VEVENT
DTSTART;TZID=America/New_York:20240630T130000
DTEND;TZID=America/New_York:20240630T160000
DTSTAMP:20260422T181439
CREATED:20240627T162814Z
LAST-MODIFIED:20240627T163115Z
UID:2336-1719752400-1719763200@ncdpjc.org
SUMMARY:Canvass - Bryan Cohn for HD 32 & NC Rep. Terence Everitt for SD 18
DESCRIPTION:Volunteer Canvass Opportunity\nHix Recreation Park\, 313 E Spring St\, Oxford\, NC 27565 \nReach out to voters in two overlapping MUST-WIN districts: SD 18 (candidate NC Rep. Terence Everitt) and HD 32 (candidate Bryan Cohn). \nNoC optional meet-up spot – Gather at Noon\, depart at 12:10 \n\n\nJersey Mike’s (Falconbridge Shopping Center\, 6118 Farrington Rd\, Chapel Hill)\n\nA LITTLE NERVOUS? \n\nSign up as a “silent canvasser.” Your mentor will do all the talking!\nRVSP
URL:https://ncdpjc.org/event/canvass-bryan-cohn-for-hd-32-nc-rep-terence-everitt-for-sd-18/
LOCATION:Hix Recreation Park\, 313 E Spring Street\, Oxford\, NC\, 27565\, United States
CATEGORIES:Volunteer
ATTACH;FMTTYPE=image/jpeg:https://ncdpjc.org/wp-content/uploads/2024/06/Cohn_Everitt-300-x-300.jpg
END:VEVENT
END:VCALENDAR