BEGIN:VCALENDAR
VERSION:2.0
PRODID:-//North Carolina Democratic Party Jewish Caucus - ECPv6.15.20//NONSGML v1.0//EN
CALSCALE:GREGORIAN
METHOD:PUBLISH
X-ORIGINAL-URL:https://ncdpjc.org
X-WR-CALDESC:Events for North Carolina Democratic Party Jewish Caucus
REFRESH-INTERVAL;VALUE=DURATION:PT1H
X-Robots-Tag:noindex
X-PUBLISHED-TTL:PT1H
BEGIN:VTIMEZONE
TZID:America/New_York
BEGIN:DAYLIGHT
TZOFFSETFROM:-0500
TZOFFSETTO:-0400
TZNAME:EDT
DTSTART:20230312T070000
END:DAYLIGHT
BEGIN:STANDARD
TZOFFSETFROM:-0400
TZOFFSETTO:-0500
TZNAME:EST
DTSTART:20231105T060000
END:STANDARD
BEGIN:DAYLIGHT
TZOFFSETFROM:-0500
TZOFFSETTO:-0400
TZNAME:EDT
DTSTART:20240310T070000
END:DAYLIGHT
BEGIN:STANDARD
TZOFFSETFROM:-0400
TZOFFSETTO:-0500
TZNAME:EST
DTSTART:20241103T060000
END:STANDARD
BEGIN:DAYLIGHT
TZOFFSETFROM:-0500
TZOFFSETTO:-0400
TZNAME:EDT
DTSTART:20250309T070000
END:DAYLIGHT
BEGIN:STANDARD
TZOFFSETFROM:-0400
TZOFFSETTO:-0500
TZNAME:EST
DTSTART:20251102T060000
END:STANDARD
END:VTIMEZONE
BEGIN:VEVENT
DTSTART;TZID=America/New_York:20240630T170000
DTEND;TZID=America/New_York:20240630T180000
DTSTAMP:20260420T151509
CREATED:20240627T163609Z
LAST-MODIFIED:20240627T163609Z
UID:2344-1719766800-1719770400@ncdpjc.org
SUMMARY:NC Victory 2024 - Ice Cream Social in Raleigh
DESCRIPTION:About this event\nJoin us for an ice cream social at our field office in Raleigh! Cool off after canvassing with us in North Raleigh\, Cary\, or SW Wake or stop by to enjoy some ice cream and meet other Democratic supporters and your local organizers.\n\n\nSign up for more details
URL:https://ncdpjc.org/event/nc-victory-2024-ice-cream-social-in-raleigh/
LOCATION:NC
CATEGORIES:Social
ATTACH;FMTTYPE=image/avif:https://ncdpjc.org/wp-content/uploads/2024/06/community-event@2x.avif
END:VEVENT
END:VCALENDAR