BEGIN:VCALENDAR
VERSION:2.0
PRODID:-//North Carolina Democratic Party Jewish Caucus - ECPv6.15.20//NONSGML v1.0//EN
CALSCALE:GREGORIAN
METHOD:PUBLISH
X-ORIGINAL-URL:https://ncdpjc.org
X-WR-CALDESC:Events for North Carolina Democratic Party Jewish Caucus
REFRESH-INTERVAL;VALUE=DURATION:PT1H
X-Robots-Tag:noindex
X-PUBLISHED-TTL:PT1H
BEGIN:VTIMEZONE
TZID:America/New_York
BEGIN:DAYLIGHT
TZOFFSETFROM:-0500
TZOFFSETTO:-0400
TZNAME:EDT
DTSTART:20230312T070000
END:DAYLIGHT
BEGIN:STANDARD
TZOFFSETFROM:-0400
TZOFFSETTO:-0500
TZNAME:EST
DTSTART:20231105T060000
END:STANDARD
BEGIN:DAYLIGHT
TZOFFSETFROM:-0500
TZOFFSETTO:-0400
TZNAME:EDT
DTSTART:20240310T070000
END:DAYLIGHT
BEGIN:STANDARD
TZOFFSETFROM:-0400
TZOFFSETTO:-0500
TZNAME:EST
DTSTART:20241103T060000
END:STANDARD
BEGIN:DAYLIGHT
TZOFFSETFROM:-0500
TZOFFSETTO:-0400
TZNAME:EDT
DTSTART:20250309T070000
END:DAYLIGHT
BEGIN:STANDARD
TZOFFSETFROM:-0400
TZOFFSETTO:-0500
TZNAME:EST
DTSTART:20251102T060000
END:STANDARD
END:VTIMEZONE
BEGIN:VEVENT
DTSTART;TZID=America/New_York:20241105T063000
DTEND;TZID=America/New_York:20241105T193000
DTSTAMP:20260423T101121
CREATED:20240918T163601Z
LAST-MODIFIED:20240920T143840Z
UID:7444-1730788200-1730835000@ncdpjc.org
SUMMARY:Election Day
DESCRIPTION:2024 Election Day\n\nThe 2024 general election is Tuesday\, Nov. 5\, 2024.\nPolling places will be open from 6:30 a.m. to 7:30 p.m.\n\nAny voter in line at their assigned polling place at 7:30 p.m. will be able to vote.\n\n\nRegistered voters can find their polling place and sample ballot here: Voter Search.
URL:https://ncdpjc.org/event/election-day/
CATEGORIES:Educational
ATTACH;FMTTYPE=image/jpeg:https://ncdpjc.org/wp-content/uploads/2024/09/sticker-strip-i-vote-today-on-the-usa-flag-after-v-2023-11-27-05-33-50-utc-scaled.jpg
END:VEVENT
END:VCALENDAR