BEGIN:VCALENDAR
VERSION:2.0
PRODID:-//North Carolina Democratic Party Jewish Caucus - ECPv6.15.20//NONSGML v1.0//EN
CALSCALE:GREGORIAN
METHOD:PUBLISH
X-WR-CALNAME:North Carolina Democratic Party Jewish Caucus
X-ORIGINAL-URL:https://ncdpjc.org
X-WR-CALDESC:Events for North Carolina Democratic Party Jewish Caucus
REFRESH-INTERVAL;VALUE=DURATION:PT1H
X-Robots-Tag:noindex
X-PUBLISHED-TTL:PT1H
BEGIN:VTIMEZONE
TZID:America/New_York
BEGIN:DAYLIGHT
TZOFFSETFROM:-0500
TZOFFSETTO:-0400
TZNAME:EDT
DTSTART:20230312T070000
END:DAYLIGHT
BEGIN:STANDARD
TZOFFSETFROM:-0400
TZOFFSETTO:-0500
TZNAME:EST
DTSTART:20231105T060000
END:STANDARD
BEGIN:DAYLIGHT
TZOFFSETFROM:-0500
TZOFFSETTO:-0400
TZNAME:EDT
DTSTART:20240310T070000
END:DAYLIGHT
BEGIN:STANDARD
TZOFFSETFROM:-0400
TZOFFSETTO:-0500
TZNAME:EST
DTSTART:20241103T060000
END:STANDARD
BEGIN:DAYLIGHT
TZOFFSETFROM:-0500
TZOFFSETTO:-0400
TZNAME:EDT
DTSTART:20250309T070000
END:DAYLIGHT
BEGIN:STANDARD
TZOFFSETFROM:-0400
TZOFFSETTO:-0500
TZNAME:EST
DTSTART:20251102T060000
END:STANDARD
END:VTIMEZONE
BEGIN:VEVENT
DTSTART;TZID=America/New_York:20240908T140000
DTEND;TZID=America/New_York:20240908T153000
DTSTAMP:20260422T215959
CREATED:20240903T142936Z
LAST-MODIFIED:20240903T143033Z
UID:7151-1725804000-1725809400@ncdpjc.org
SUMMARY:Meet the Raleigh City Council Candidates
DESCRIPTION:Program Description: \nJoin us for a gathering to meet and get to know the Raleigh City Council candidates. \nBrought to you by the Jewish Federation of Greater Raleigh\, Beth Meyer Synagogue\, and Temple Beth Or. \nAll registered candidates are invited to participate and organizers do not endorse candidates. \n  \nWHEN: Sunday\, September 8 from 2-3:30pm \nWHERE: Beth Meyer Synagogue\, 504 Newton Rd\, Raleigh\, NC\, 27615
URL:https://ncdpjc.org/event/meet-the-raleigh-city-council-candidates/
LOCATION:Beth Meyer Synagogue\, 504 Newton Road\, Raleigh\, 27615\, United States
CATEGORIES:Candidates,Educational
ATTACH;FMTTYPE=image/png:https://ncdpjc.org/wp-content/uploads/2024/09/Raleigh-City-Council-Candidate-Forum-e1725373173222.png
END:VEVENT
END:VCALENDAR