BEGIN:VCALENDAR
VERSION:2.0
PRODID:-//North Carolina Democratic Party Jewish Caucus - ECPv6.15.20//NONSGML v1.0//EN
CALSCALE:GREGORIAN
METHOD:PUBLISH
X-WR-CALNAME:North Carolina Democratic Party Jewish Caucus
X-ORIGINAL-URL:https://ncdpjc.org
X-WR-CALDESC:Events for North Carolina Democratic Party Jewish Caucus
REFRESH-INTERVAL;VALUE=DURATION:PT1H
X-Robots-Tag:noindex
X-PUBLISHED-TTL:PT1H
BEGIN:VTIMEZONE
TZID:America/New_York
BEGIN:DAYLIGHT
TZOFFSETFROM:-0500
TZOFFSETTO:-0400
TZNAME:EDT
DTSTART:20230312T070000
END:DAYLIGHT
BEGIN:STANDARD
TZOFFSETFROM:-0400
TZOFFSETTO:-0500
TZNAME:EST
DTSTART:20231105T060000
END:STANDARD
BEGIN:DAYLIGHT
TZOFFSETFROM:-0500
TZOFFSETTO:-0400
TZNAME:EDT
DTSTART:20240310T070000
END:DAYLIGHT
BEGIN:STANDARD
TZOFFSETFROM:-0400
TZOFFSETTO:-0500
TZNAME:EST
DTSTART:20241103T060000
END:STANDARD
BEGIN:DAYLIGHT
TZOFFSETFROM:-0500
TZOFFSETTO:-0400
TZNAME:EDT
DTSTART:20250309T070000
END:DAYLIGHT
BEGIN:STANDARD
TZOFFSETFROM:-0400
TZOFFSETTO:-0500
TZNAME:EST
DTSTART:20251102T060000
END:STANDARD
END:VTIMEZONE
BEGIN:VEVENT
DTSTART;TZID=America/New_York:20240829T180000
DTEND;TZID=America/New_York:20240829T193000
DTSTAMP:20260423T001953
CREATED:20240809T145455Z
LAST-MODIFIED:20240809T145640Z
UID:4392-1724954400-1724959800@ncdpjc.org
SUMMARY:Nicole Sidman Fundraiser with Rep. Jeff Jackson
DESCRIPTION:Join Rep. Jeff Jackson for a Special Event in Support of Nicole for NC\n\n \nPlease join special guest Congressman Jeff Jackson at an event for Nicole Sidman\, candidate for North Carolina House District 105. \nThursday\, August 29 \n6:00 – 7:30 PM \nCharlotte\, NC \nNicole’s race will likely be the most important and expensive house race in North Carolina as this seat could mean the difference between sustaining the governor’s veto or continuing the GOP’s supermajority. \nSpace is limited: this event will sell out.
URL:https://ncdpjc.org/event/nicole-sidman-fundraiser-with-rep-jeff-jackson/
CATEGORIES:Candidates
ATTACH;FMTTYPE=image/png:https://ncdpjc.org/wp-content/uploads/2024/06/Nicole-Sidman-1024x974-1.png
END:VEVENT
END:VCALENDAR