BEGIN:VCALENDAR
VERSION:2.0
PRODID:-//North Carolina Democratic Party Jewish Caucus - ECPv6.15.20//NONSGML v1.0//EN
CALSCALE:GREGORIAN
METHOD:PUBLISH
X-ORIGINAL-URL:https://ncdpjc.org
X-WR-CALDESC:Events for North Carolina Democratic Party Jewish Caucus
REFRESH-INTERVAL;VALUE=DURATION:PT1H
X-Robots-Tag:noindex
X-PUBLISHED-TTL:PT1H
BEGIN:VTIMEZONE
TZID:America/New_York
BEGIN:DAYLIGHT
TZOFFSETFROM:-0500
TZOFFSETTO:-0400
TZNAME:EDT
DTSTART:20230312T070000
END:DAYLIGHT
BEGIN:STANDARD
TZOFFSETFROM:-0400
TZOFFSETTO:-0500
TZNAME:EST
DTSTART:20231105T060000
END:STANDARD
BEGIN:DAYLIGHT
TZOFFSETFROM:-0500
TZOFFSETTO:-0400
TZNAME:EDT
DTSTART:20240310T070000
END:DAYLIGHT
BEGIN:STANDARD
TZOFFSETFROM:-0400
TZOFFSETTO:-0500
TZNAME:EST
DTSTART:20241103T060000
END:STANDARD
BEGIN:DAYLIGHT
TZOFFSETFROM:-0500
TZOFFSETTO:-0400
TZNAME:EDT
DTSTART:20250309T070000
END:DAYLIGHT
BEGIN:STANDARD
TZOFFSETFROM:-0400
TZOFFSETTO:-0500
TZNAME:EST
DTSTART:20251102T060000
END:STANDARD
END:VTIMEZONE
BEGIN:VEVENT
DTSTART;TZID=America/New_York:20240623T140000
DTEND;TZID=America/New_York:20240623T153000
DTSTAMP:20260423T031222
CREATED:20240620T144538Z
LAST-MODIFIED:20240620T145316Z
UID:2123-1719151200-1719156600@ncdpjc.org
SUMMARY:NC Coordinated Campaign Office Kick-Off in Raleigh!
DESCRIPTION:About this event\n\n\n\n\n\n\n\nCome join the North Carolina Coordinated Campaign as we celebrate the opening of our Raleigh Office as part of the historic effort to elect Joe Biden\, Kamala Harris\, Josh Stein\, and Democrats up and down the ticket! \n  \nRefreshments and food will be provided. Free garage parking is available near our office. After you sign up\, you will receive the address and parking information via email!
URL:https://ncdpjc.org/event/nc-coordinated-campaign-office-kick-off-in-raleigh/
CATEGORIES:Candidates
ATTACH;FMTTYPE=image/avif:https://ncdpjc.org/wp-content/uploads/2024/06/OnBoardMobilize_20240612154901683088.avif
END:VEVENT
END:VCALENDAR